BEGIN:VCALENDAR
VERSION:2.0
PRODID:-//Stay, Eat &amp; Shop in Historic Kells, Ireland - ECPv6.15.20//NONSGML v1.0//EN
CALSCALE:GREGORIAN
METHOD:PUBLISH
X-WR-CALNAME:Stay, Eat &amp; Shop in Historic Kells, Ireland
X-ORIGINAL-URL:https://kellsawaits.ie
X-WR-CALDESC:Events for Stay, Eat &amp; Shop in Historic Kells, Ireland
REFRESH-INTERVAL;VALUE=DURATION:PT1H
X-Robots-Tag:noindex
X-PUBLISHED-TTL:PT1H
BEGIN:VTIMEZONE
TZID:UTC
BEGIN:STANDARD
TZOFFSETFROM:+0000
TZOFFSETTO:+0000
TZNAME:UTC
DTSTART:20240101T000000
END:STANDARD
END:VTIMEZONE
BEGIN:VEVENT
DTSTART;TZID=UTC:20250702T203000
DTEND;TZID=UTC:20250702T220000
DTSTAMP:20260419T145047
CREATED:20250701T081742Z
LAST-MODIFIED:20250701T081839Z
UID:2813-1751488200-1751493600@kellsawaits.ie
SUMMARY:Dancing at the Crossroads: Céilí in Ughtyneill
DESCRIPTION:So\, if you’re heading to the céilí at Ughtyneill this Wednesday evening with the Tara Céilí Band\, bring your dancing shoes\, your craic\, and maybe a jumper for when the sun dips behind the hills. \n\n\n\nYou’ll be stepping into a tradition older than most buildings in the county — when the céilí music floats on the breeze and feet start tapping\, know that you’re part of a long\, proud chain. \n\n\n\nThe roads may be paved now\, and the traffic might grumble\, but the crossroads haven’t lost their magic. They’re still a place where joy meets memory — and where we all get to dance for a while. \n\n\n\n🎶 music starts at 8pm. Everyone welcome. Tea\, tunes\, and two left feet were all accepted.
URL:https://kellsawaits.ie/event/dancing-at-the-crossroads-ceili-in-ughtyneill-kells-meath/
LOCATION:St Patrick’s Hall\, Ughtyneill\, Ucht-Uí-Néill\, Kells\, Meath\, A82 K225\, Ireland
CATEGORIES:Céilí,Live Music
ATTACH;FMTTYPE=image/jpeg:https://kellsawaits.ie/kells/wp-content/uploads/2025/07/481007949_122230871546023684_8108566894282604528_n_50.avif
END:VEVENT
END:VCALENDAR