BEGIN:VCALENDAR
VERSION:2.0
PRODID:-//Stay, Eat &amp; Shop in Historic Kells, Ireland - ECPv6.15.20//NONSGML v1.0//EN
CALSCALE:GREGORIAN
METHOD:PUBLISH
X-WR-CALNAME:Stay, Eat &amp; Shop in Historic Kells, Ireland
X-ORIGINAL-URL:https://kellsawaits.ie
X-WR-CALDESC:Events for Stay, Eat &amp; Shop in Historic Kells, Ireland
REFRESH-INTERVAL;VALUE=DURATION:PT1H
X-Robots-Tag:noindex
X-PUBLISHED-TTL:PT1H
BEGIN:VTIMEZONE
TZID:UTC
BEGIN:STANDARD
TZOFFSETFROM:+0000
TZOFFSETTO:+0000
TZNAME:UTC
DTSTART:20240101T000000
END:STANDARD
END:VTIMEZONE
BEGIN:VEVENT
DTSTART;TZID=UTC:20250914T120000
DTEND;TZID=UTC:20250914T180000
DTSTAMP:20260419T130243
CREATED:20250630T150335Z
LAST-MODIFIED:20250630T150335Z
UID:2782-1757851200-1757872800@kellsawaits.ie
SUMMARY:Mullagh Fair Day
DESCRIPTION:Live Music\nDemonstrations\nChildren’s Games\nOne of the largest one day shows in the Northeast\, offering a unique blend of old-world charm and modern-day excitement. Whether you’re young or old\, there’s something for everyone to enjoy as you immerse yourself in the sights\, sounds\, and tastes of Mullagh.
URL:https://kellsawaits.ie/event/mullagh-fair-day/
LOCATION:Meath
CATEGORIES:Fair,Fair Day,Live Music
ATTACH;FMTTYPE=image/jpeg:https://kellsawaits.ie/kells/wp-content/uploads/2025/06/mullagh-fair-day-2025.avif
END:VEVENT
BEGIN:VEVENT
DTSTART;TZID=UTC:20250803T150000
DTEND;TZID=UTC:20250803T170000
DTSTAMP:20260419T130243
CREATED:20250630T171209Z
LAST-MODIFIED:20250630T171511Z
UID:2802-1754233200-1754240400@kellsawaits.ie
SUMMARY:Kieran Well Festival
DESCRIPTION:August bank holiday weekend festival at St Kieran’s Well Carnaross\, Kells\, Co. Meath.
URL:https://kellsawaits.ie/event/kieran-well-festival-kells-meath/
LOCATION:St. Ciaran’s Holy Well 🌿\, Castlekeeran\, Kells\, Meath\, A82 XP65\, Ireland
CATEGORIES:Fair Day,Festival
ATTACH;FMTTYPE=image/jpeg:https://kellsawaits.ie/kells/wp-content/uploads/2025/06/03-08-25.avif
END:VEVENT
BEGIN:VEVENT
DTSTART;TZID=UTC:20250511T120000
DTEND;TZID=UTC:20250511T180000
DTSTAMP:20260419T130243
CREATED:20250418T184304Z
LAST-MODIFIED:20250418T184438Z
UID:2119-1746964800-1746986400@kellsawaits.ie
SUMMARY:Dunderry Fair
DESCRIPTION:On the street trades and skills of times gone by are demonstrated by those for whom it was once a daily chore. Basket making\, butter making and hand spinning are on display. Also we have farm animals on show. Cows\, horses\, donkeys\, sheep\, pigs and even turkeys have appeared at Dunderry Fair previously and some are for sale. So be prepared for some traditional haggling if you fancy bringing home a new addition! \nAnd it is not just farm animals you could be bringing home. Every year our matchmaker performs his magic and brings together couples who are looking for some romance. There is no better place in Ireland to find your true love than Dunderry Fair. \nCenter piece to Dunderry Fair is the main stage. Music is played here all day long with a platform provided so be sure to bring your dancing shoes! In the field adjacent to the main street you will find the trade stands and carnival rides. So whether you are young or old and looking for a bit of craic you will be sure to find it at Dunderry Fair \nGENERAL ADMISSION: €15  |  5-18: €5  |  UNDER 5: FREE  |  ALL PROCEEDS GO TO CHARITY
URL:https://kellsawaits.ie/event/dunderry-fair/
LOCATION:Meath
CATEGORIES:Fair Day,Festival
ATTACH;FMTTYPE=image/jpeg:https://kellsawaits.ie/kells/wp-content/uploads/2025/04/490856468_1101107198713426_6989840042319463973_n.avif
END:VEVENT
END:VCALENDAR