BEGIN:VCALENDAR
VERSION:2.0
PRODID:-//Stay, Eat &amp; Shop in Historic Kells, Ireland - ECPv6.15.20//NONSGML v1.0//EN
CALSCALE:GREGORIAN
METHOD:PUBLISH
X-ORIGINAL-URL:https://kellsawaits.ie
X-WR-CALDESC:Events for Stay, Eat &amp; Shop in Historic Kells, Ireland
REFRESH-INTERVAL;VALUE=DURATION:PT1H
X-Robots-Tag:noindex
X-PUBLISHED-TTL:PT1H
BEGIN:VTIMEZONE
TZID:UTC
BEGIN:STANDARD
TZOFFSETFROM:+0000
TZOFFSETTO:+0000
TZNAME:UTC
DTSTART:20240101T000000
END:STANDARD
END:VTIMEZONE
BEGIN:VEVENT
DTSTART;TZID=UTC:20250808T200000
DTEND;TZID=UTC:20250808T220000
DTSTAMP:20260419T120344
CREATED:20250801T155634Z
LAST-MODIFIED:20250801T160100Z
UID:2917-1754683200-1754690400@kellsawaits.ie
SUMMARY:Kells AC 5km Heritage Run 2025
DESCRIPTION:Kells AC will host its annual 5km Heritage Run on Friday August 8th @ 8pm. This is a flat & fast PB route and is open to all abilities. We look forward to welcoming you all on the day.
URL:https://kellsawaits.ie/event/kells-ac-5km-heritage-run-2025-kells-meath/
LOCATION:Kells Parochial National School\, Navan Road\, Town Parks\, Kells\, Co. Meath\, A82 RK49\, Ireland
CATEGORIES:Sporting Event
ATTACH;FMTTYPE=image/png:https://kellsawaits.ie/kells/wp-content/uploads/2025/08/square.avif
END:VEVENT
BEGIN:VEVENT
DTSTART;VALUE=DATE:20250521
DTEND;VALUE=DATE:20250522
DTSTAMP:20260419T120344
CREATED:20250222T232358Z
LAST-MODIFIED:20250222T232358Z
UID:772-1747785600-1747871999@kellsawaits.ie
SUMMARY:Rás Tailteann Cycle Race 2025
DESCRIPTION:Get ready for a wild spin around the Emerald Isle as the 70th edition of the Rás Tailteann roars out of the traps from May 21st to May 25th\, 2025! \nCommencing in cycling hotbed Drogheda\, Co. Louth\, on Wednesday\, May 21st\, the riders will head west\, battling it out all the way to Boyle in scenic Co. Roscommon. But that’s just the beginning. \nStage one covers 155.5Kms from  Drogheda – Slane – Kilberry – Kells – Drumbaragh – Ballinlough – Oldcastle – Mountnugent – Kilnaleck – Ballinagh – Crossdoney – Arvagh – Carrigalen – Mohill – Carrick-on-Shannon – Boyle. \nStage two departs from Charlestown\, with riders tackling the legendary Windy Gap and Maumtrasna climbs in the longest stage of the 2025 race. After Mayo’s challenging hills\, the action then moves to Cong\, where breathtaking scenery along the Wild Atlantic Way is ridden side by side by the peloton prior to a frantic sprint finish in Miltown Malbay\, Co. Clare. \nOn the penultimate day\, the race leaves Ennis\, Co. Clare\, to tackle two category three climbs before tackling the vicious category one Wolftrap climb with just 15 km to go. Will the peloton have time to re-group before the action-packed finish in Mountrath\, Co. Laois? \nThe grand finale begins in Kildare Town\, speeding over the flat plains of ‘The Lilywhite County’ and into Co. Meath\, where the 2025 Rás Tailteann winner will be crowned at the historic Bective finish line. \nThis year’s event consists of five thrilling stages and over 760 km of racing with 13 categorized climbs. It’s set to be an epic showcase of speed\, endurance\, and sheer determination. \nSave the date for this\, and come along and join us in cheering on the riders as they bike through Ireland’s picturesque countryside!  \nAll photos courtesy of Lorraine O’Sullivan\, with route map courtesy of Emmet Roche.
URL:https://kellsawaits.ie/event/ras-tailteann-cycle-race-2025/
LOCATION:Co. Meath
CATEGORIES:Sporting Event
ATTACH;FMTTYPE=image/jpeg:https://kellsawaits.ie/kells/wp-content/uploads/2025/02/delete-bike-2.avif
END:VEVENT
END:VCALENDAR