BEGIN:VCALENDAR
VERSION:2.0
PRODID:-//Stay, Eat &amp; Shop in Historic Kells, Ireland - ECPv6.15.20//NONSGML v1.0//EN
CALSCALE:GREGORIAN
METHOD:PUBLISH
X-WR-CALNAME:Stay, Eat &amp; Shop in Historic Kells, Ireland
X-ORIGINAL-URL:https://kellsawaits.ie
X-WR-CALDESC:Events for Stay, Eat &amp; Shop in Historic Kells, Ireland
REFRESH-INTERVAL;VALUE=DURATION:PT1H
X-Robots-Tag:noindex
X-PUBLISHED-TTL:PT1H
BEGIN:VTIMEZONE
TZID:UTC
BEGIN:STANDARD
TZOFFSETFROM:+0000
TZOFFSETTO:+0000
TZNAME:UTC
DTSTART:20240101T000000
END:STANDARD
END:VTIMEZONE
BEGIN:VEVENT
DTSTART;VALUE=DATE:20250326
DTEND;VALUE=DATE:20250529
DTSTAMP:20260426T040218
CREATED:20250416T214309Z
LAST-MODIFIED:20250416T214729Z
UID:2050-1742947200-1748476799@kellsawaits.ie
SUMMARY:Melting\, Moving\, Mesmerising exhibition by Mary Clarke
DESCRIPTION:This latest exhibition of new work by Navan based artist Mary Clarke explores the themes of climate change and the environment. Mary’s collection of vibrant\, layered and abstracted images confronts the viewer\, both subtly and directly\, to provoke a reaction. Her work engages with the audience’s imagination\, to stimulate conversation\, in the hope of igniting positive action.Presented by Meath County Council Arts Office\, this collection of thought-provoking photographic prints\, collage and works on paper runs until the 28th May 2025.
URL:https://kellsawaits.ie/event/melting-moving-mesmerising-exhibition-by-mary-clarke/
LOCATION:Toradh 2 Gallery\, Kells Courthouse Arts\, Tourism and Cultural Hub\, Headfort Place\, Kells\, Meath\, A82 RY62\, Ireland
CATEGORIES:Art Exhibition
ATTACH;FMTTYPE=image/jpeg:https://kellsawaits.ie/kells/wp-content/uploads/2025/04/486534306_18284616835301246_1372431032428320983_n.avif
ORGANIZER;CN="Meath County Council Arts Office":MAILTO:Gerardette.bailey@meathcoco.ie
END:VEVENT
BEGIN:VEVENT
DTSTART;TZID=UTC:20250406T100000
DTEND;TZID=UTC:20250406T160000
DTSTAMP:20260426T040218
CREATED:20250302T220657Z
LAST-MODIFIED:20250302T220657Z
UID:1120-1743933600-1743955200@kellsawaits.ie
SUMMARY:Teltown House Car Boot Sale
DESCRIPTION:Goodbye Winter\, hello Spring. \nHave you got that Spring cleaning feeling? \nDeclutter your Preloved items for the Teltown House Spring Car Boot Fair  Sunday 6th April 2025 10am-4pm C15X302. \nTo book please  087-6659022. Cafe Tailtiu open. . Dates for your diary\, Car Boor Fair 1st Sunday of the month. \nLooking forward to welcoming you all at Teltown House this year. \nFáilte ar ais
URL:https://kellsawaits.ie/event/teltown-house-car-boot-sale-kells-meath/
LOCATION:Teltown House\, Teltown\, Kells\, Meath\, C15 X302\, Ireland
CATEGORIES:Car Boot Sale
ATTACH;FMTTYPE=image/png:https://kellsawaits.ie/kells/wp-content/uploads/2025/03/carbootsale-06-April-2025-png.avif
END:VEVENT
BEGIN:VEVENT
DTSTART;TZID=UTC:20250410T193000
DTEND;TZID=UTC:20250410T220000
DTSTAMP:20260426T040218
CREATED:20250317T154902Z
LAST-MODIFIED:20250317T154902Z
UID:1653-1744313400-1744322400@kellsawaits.ie
SUMMARY:Fashion Show at the BOOK MARKet Café
DESCRIPTION:Glamorous Boutique Fashion Show
URL:https://kellsawaits.ie/event/fashion-show-at-the-book-market-cafe/
LOCATION:The BookMarket Café\, 11 Market Street\, Kells\, Meath\, A82 R990\, Ireland
ATTACH;FMTTYPE=image/jpeg:https://kellsawaits.ie/kells/wp-content/uploads/2025/03/483507418_122103308612801413_1659594733988064092_n.avif
END:VEVENT
BEGIN:VEVENT
DTSTART;TZID=UTC:20250419T083000
DTEND;TZID=UTC:20250419T164500
DTSTAMP:20260426T040218
CREATED:20250418T181819Z
LAST-MODIFIED:20250418T181819Z
UID:2111-1745051400-1745081100@kellsawaits.ie
SUMMARY:The Big Mattress Drop-Off
DESCRIPTION:The Big Mattress Drop Off Event\n\n\nOver the coming months\, a number of Recycle Centres will accept items that are too large to be accepted by the regular waste collection service. The second of our “Drop Off Event” starts in Thornton’s Dunboyne on Saturday\, April 12\, the following locations will be accepting mattresses;\n\n\nThornton’s Dunboyne\nSaturday\, 12th April from 8am – 2pm\n\n\nNavan Recycle Centre\nThursday\, 17th April from 8.30am – 4.45pm\n\n\nTrim Recycle Centre\nFriday\, 18th April from 8.30am – 4.45pm\n\n\nKells Recycle Centre\nSaturday\, 19th April from 8.30am – 4.45pm\n\n\nGate Fee of €2 per vehicle per visit. Householders only – No Commercial customers.
URL:https://kellsawaits.ie/event/the-big-mattress-drop-off/
LOCATION:Kells Recycling Centre\, Lloyd Business Park\, Cavan Rd\, Kells\, Meath\, A82 VK23\, Ireland
CATEGORIES:Recycling
ATTACH;FMTTYPE=image/jpeg:https://kellsawaits.ie/kells/wp-content/uploads/2025/04/mattress-drop-off-19-04-25.avif
END:VEVENT
BEGIN:VEVENT
DTSTART;TZID=UTC:20250424T193000
DTEND;TZID=UTC:20250424T210000
DTSTAMP:20260426T040218
CREATED:20250423T194930Z
LAST-MODIFIED:20250423T194930Z
UID:2230-1745523000-1745528400@kellsawaits.ie
SUMMARY:Community Energy Initiative
DESCRIPTION:Energy in our Community\nCKCD wants to hear what you think. We would like to start a community energy initiative. If you want to become more energy efficient and/or help the environment\, come join us to talk about it. \nThis initiative was inspired by conversations among different people wishing to improve their use of energy\, learn more about\, and take advantage of grants coming up relating to energy use and the environment.  Some people feel that there are things that could be done around the community that should be done (e.g. solar panels on community buildings).  Others wish to generally improve things for the environment and are willing to take action but not quite sure how\, or what the best use of their efforts are. \nWe hope to create a local source or group to channel efforts to improve the local environment for all.  An initiative at national level exists to help local groups form their own sustainable energy programmes – sustainable energy communities. \n \nOur meeting on the 24th is to present what’s involved in and what can be gained from having a sustainable energy community in your local community. The first step is to form a local energy community committee.  If you are interested in learning more about the group’s plans\, we hope you will join us on Thursday 24th April. \nCounty Meath’s SEAI local mentor\, Jim Kenehan\, will present the path to formation of and examples of active sustainable energy communities\, followed by Q&A\, feedback and discussion.
URL:https://kellsawaits.ie/event/community-energy-initiative/
LOCATION:Deerpark Community  Hub & Park\, Carlanstown\, Kells\, Meath\, A882 N9P8\, Ireland
CATEGORIES:Meeting
ATTACH;FMTTYPE=image/jpeg:https://kellsawaits.ie/kells/wp-content/uploads/2025/04/logo-1.avif
ORGANIZER;CN="Carlanstown/Kilbeg Community Development":MAILTO:deerparkcommunityhub@gmail.com
END:VEVENT
BEGIN:VEVENT
DTSTART;TZID=UTC:20250427T110000
DTEND;TZID=UTC:20250427T163000
DTSTAMP:20260426T040218
CREATED:20250416T205836Z
LAST-MODIFIED:20250422T163223Z
UID:2041-1745751600-1745771400@kellsawaits.ie
SUMMARY:Mini-Con Kells
DESCRIPTION:●James Taylor(Kylo Ren double/Stand-in) Star Wars Episodes VII\, VIII\, IX\n●Tony McCarthy (Warlord Orc) Rings of Power\n●Fallout Cosplay Meetup\n●Cosplay competition/masquerade\n●Comics\, Collectibles\, Retro Toys\n●Live retro gaming challenges\n●World class costuming groups\n●Pokemon Card and Lego traders\n●Authors and Artists/Illustrators\n●Vintage and modern Star Wars figures and sets\n●Topps accredited sketch card artist JB Sketchcards\n●Live talks\n●Fandom inspired raffle\n●Friendly inclusive atmosphere in the beautifully scenic Eureka House\n●Over 30 tables of comic con essentials\n●Live caricature artist Goti Caricatures.
URL:https://kellsawaits.ie/event/mini-con-kells-meath/
LOCATION:Eureka House\, Townparks\, Navan Road\, Kells\, Meath\, A82 DX47\, Ireland
CATEGORIES:Family Event,Mini-Con
ATTACH;FMTTYPE=image/jpeg:https://kellsawaits.ie/kells/wp-content/uploads/2025/04/488828180_644138754909161_7596101320762959370_n.avif
END:VEVENT
END:VCALENDAR