BEGIN:VCALENDAR
VERSION:2.0
PRODID:-//Stay, Eat &amp; Shop in Historic Kells, Ireland - ECPv6.15.20//NONSGML v1.0//EN
CALSCALE:GREGORIAN
METHOD:PUBLISH
X-ORIGINAL-URL:https://kellsawaits.ie
X-WR-CALDESC:Events for Stay, Eat &amp; Shop in Historic Kells, Ireland
REFRESH-INTERVAL;VALUE=DURATION:PT1H
X-Robots-Tag:noindex
X-PUBLISHED-TTL:PT1H
BEGIN:VTIMEZONE
TZID:UTC
BEGIN:STANDARD
TZOFFSETFROM:+0000
TZOFFSETTO:+0000
TZNAME:UTC
DTSTART:20240101T000000
END:STANDARD
END:VTIMEZONE
BEGIN:VEVENT
DTSTART;VALUE=DATE:20250530
DTEND;VALUE=DATE:20250603
DTSTAMP:20260426T023220
CREATED:20250529T132455Z
LAST-MODIFIED:20250529T132455Z
UID:2707-1748563200-1748908799@kellsawaits.ie
SUMMARY:The 2025 Blue Jean Country Queen Festival
DESCRIPTION:Blue Jean Country Queen Festival – Athboy🎶 Dust off your boots – it’s time to dance! \nSaddle up for one of Ireland’s best-loved country music festivals! The Blue Jean Country Festival gallops into Athboy this weekend with live bands\, line dancing\, jiving competitions\, family fun\, food trucks\, and that legendary country spirit. Expect toe-tapping tunes\, great craic\, and a warm welcome. \nThe weekend will feature live music\, family-friendly entertainment and the coronation of the 2025 Blue Jean Country Queen. This year we have 21 Queens\, selected from counties all over Ireland (including 5 from regions of County Cork). We also have a Queen from New Zealand. \n📍 Athboy\, Co. Meath📅 Friday 30th May – Monday 2 June🎟️ Tickets available on-site and online \nBring your blue jeans\, bring your friends\, and let the good times roll! \nEvents Blue Jean Country Queen Festival 2025
URL:https://kellsawaits.ie/event/the-2025-blue-jean-country-queen-athboy-meath/
LOCATION:Co. Meath
CATEGORIES:Festival
ATTACH;FMTTYPE=image/jpeg:https://kellsawaits.ie/kells/wp-content/uploads/2025/05/500261035_1263694852425351_7351293950361862003_n.avif
END:VEVENT
END:VCALENDAR