BEGIN:VCALENDAR
VERSION:2.0
PRODID:-//Stay, Eat &amp; Shop in Historic Kells, Ireland - ECPv6.15.20//NONSGML v1.0//EN
CALSCALE:GREGORIAN
METHOD:PUBLISH
X-ORIGINAL-URL:https://kellsawaits.ie
X-WR-CALDESC:Events for Stay, Eat &amp; Shop in Historic Kells, Ireland
REFRESH-INTERVAL;VALUE=DURATION:PT1H
X-Robots-Tag:noindex
X-PUBLISHED-TTL:PT1H
BEGIN:VTIMEZONE
TZID:UTC
BEGIN:STANDARD
TZOFFSETFROM:+0000
TZOFFSETTO:+0000
TZNAME:UTC
DTSTART:20240101T000000
END:STANDARD
END:VTIMEZONE
BEGIN:VEVENT
DTSTART;TZID=UTC:20250704T000000
DTEND;TZID=UTC:20250706T000000
DTSTAMP:20260426T004935
CREATED:20250704T165603Z
LAST-MODIFIED:20250704T165603Z
UID:2833-1751587200-1751760000@kellsawaits.ie
SUMMARY:Live in the Lounge: Headfort Arms Hotel
DESCRIPTION:
URL:https://kellsawaits.ie/event/live-in-the-lounge-headfort-arms-hotel/
LOCATION:Headfort Lounge at Headfort Arms Hotel\, Headfort Place\, Kells\, Co. Meath\, A82 D2C1\, Ireland
CATEGORIES:Live Music
ATTACH;FMTTYPE=image/jpeg:https://kellsawaits.ie/kells/wp-content/uploads/2025/07/Live-in-the-Lounge-04-07-25.avif
ORGANIZER;CN="Headfort Arms Hotel":MAILTO:info@headfortarms.ie
END:VEVENT
BEGIN:VEVENT
DTSTART;TZID=UTC:20250705T000000
DTEND;TZID=UTC:20250706T000000
DTSTAMP:20260426T004935
CREATED:20250704T170520Z
LAST-MODIFIED:20250704T170520Z
UID:2836-1751673600-1751760000@kellsawaits.ie
SUMMARY:Live Music at O'Connor's Bar Kells
DESCRIPTION:John Slater & Tony Morris on Saturday | Molly Moran on Sunday
URL:https://kellsawaits.ie/event/live-music-at-oconnors-bar-kells/
LOCATION:O’Connor’s Bar\, Farrell Street\, Kells\, Meath\, Kells\, Meath\, A82 R7N3\, Ireland
CATEGORIES:Live Music
ATTACH;FMTTYPE=image/png:https://kellsawaits.ie/kells/wp-content/uploads/2025/07/oconnors-05-07-25.avif
END:VEVENT
BEGIN:VEVENT
DTSTART;TZID=UTC:20250705T200000
DTEND;TZID=UTC:20250705T230000
DTSTAMP:20260426T004935
CREATED:20250630T141153Z
LAST-MODIFIED:20250630T141153Z
UID:2769-1751745600-1751756400@kellsawaits.ie
SUMMARY:BookMarket Unplugged: Aoife Scott
DESCRIPTION:One week to go for Aoife Scott! Saturday 5th July. 8pm Still a few tickets left. Book here\, in cafe or 0879034792( text or WhatsApp)
URL:https://kellsawaits.ie/event/bookmarket-unplugged-aoife-scott/
LOCATION:The BookMarket Café\, 11 Market Street\, Kells\, Meath\, A82 R990\, Ireland
CATEGORIES:Live Music
ATTACH;FMTTYPE=image/jpeg:https://kellsawaits.ie/kells/wp-content/uploads/2025/06/Aoife-Scott-05-07-25.avif
END:VEVENT
END:VCALENDAR