BEGIN:VCALENDAR
VERSION:2.0
PRODID:-//Stay, Eat &amp; Shop in Historic Kells, Ireland - ECPv6.15.20//NONSGML v1.0//EN
CALSCALE:GREGORIAN
METHOD:PUBLISH
X-WR-CALNAME:Stay, Eat &amp; Shop in Historic Kells, Ireland
X-ORIGINAL-URL:https://kellsawaits.ie
X-WR-CALDESC:Events for Stay, Eat &amp; Shop in Historic Kells, Ireland
REFRESH-INTERVAL;VALUE=DURATION:PT1H
X-Robots-Tag:noindex
X-PUBLISHED-TTL:PT1H
BEGIN:VTIMEZONE
TZID:UTC
BEGIN:STANDARD
TZOFFSETFROM:+0000
TZOFFSETTO:+0000
TZNAME:UTC
DTSTART:20240101T000000
END:STANDARD
END:VTIMEZONE
BEGIN:VEVENT
DTSTART;TZID=UTC:20250707T100000
DTEND;TZID=UTC:20250711T130000
DTSTAMP:20260426T004654
CREATED:20250630T140029Z
LAST-MODIFIED:20250630T140029Z
UID:2764-1751882400-1752238800@kellsawaits.ie
SUMMARY:Artz for Kids
DESCRIPTION:Designed to nurture your children’s creativity across drawing\, doodling\, painting and story-telling.
URL:https://kellsawaits.ie/event/artz-for-kids-kells-meath/
LOCATION:Teltown House\, Teltown\, Kells\, Meath\, C15 X302\, Ireland
CATEGORIES:Children's Event
ATTACH;FMTTYPE=image/jpeg:https://kellsawaits.ie/kells/wp-content/uploads/2025/06/summer-camp.avif
END:VEVENT
BEGIN:VEVENT
DTSTART;TZID=UTC:20250710T190000
DTEND;TZID=UTC:20250710T210000
DTSTAMP:20260426T004654
CREATED:20250704T163906Z
LAST-MODIFIED:20250704T163906Z
UID:2830-1752174000-1752181200@kellsawaits.ie
SUMMARY:Unveiling of the Cooper's Park Sign Kells
DESCRIPTION:The people of Kells are invited to attend a special event on Thursday\, July 10th.\n\n\n\nA special display sign to mark the once home of residents at the long-gone Cooper’s Park will be unveiled at the rear of ‘Jack’s’ Pub at the junction of Bective Street and Mullingar Road.\n\n\n\nCooper’s Park\, known by many generations as ‘The Croghan’\, was once home to 8 families at a time when there was no electricity or running water.\n\n\n\nThe unveiling of the sign will ensure a precious piece of Kells’ social history is preserved forever.\n\n\n\nThe event is being organised by Kells Local Heroes\, Kells Pride of Place\, and Kells Type Trail\, with special thanks to the project curator\, Mark Smith.\n\n\n\nProceedings get underway at 7 pm on Thursday\, July 10th.\n\n\n\nSpecial thanks in advance to Leona and Damien Farrelly for their co-operation and kind hospitality.
URL:https://kellsawaits.ie/event/unveiling-of-the-coopers-park-sign-kells/
LOCATION:Co. Meath
CATEGORIES:Local History Event
ATTACH;FMTTYPE=image/jpeg:https://kellsawaits.ie/kells/wp-content/uploads/2025/07/logo.avif
END:VEVENT
END:VCALENDAR