BEGIN:VCALENDAR
VERSION:2.0
PRODID:-//Stay, Eat &amp; Shop in Historic Kells, Ireland - ECPv6.15.20//NONSGML v1.0//EN
CALSCALE:GREGORIAN
METHOD:PUBLISH
X-ORIGINAL-URL:https://kellsawaits.ie
X-WR-CALDESC:Events for Stay, Eat &amp; Shop in Historic Kells, Ireland
REFRESH-INTERVAL;VALUE=DURATION:PT1H
X-Robots-Tag:noindex
X-PUBLISHED-TTL:PT1H
BEGIN:VTIMEZONE
TZID:UTC
BEGIN:STANDARD
TZOFFSETFROM:+0000
TZOFFSETTO:+0000
TZNAME:UTC
DTSTART:20240101T000000
END:STANDARD
END:VTIMEZONE
BEGIN:VEVENT
DTSTART;TZID=UTC:20250711T000000
DTEND;TZID=UTC:20250713T000000
DTSTAMP:20260426T005008
CREATED:20250708T193659Z
LAST-MODIFIED:20250708T193828Z
UID:2863-1752192000-1752364800@kellsawaits.ie
SUMMARY:Headfort Arms: Live in the Lounge
DESCRIPTION:Weekend Lineup at Headfort! Get ready for a weekend full of great tunes\, good vibes\, and even better company! Live in the Lounge: Friday\, July 11th – Piano & Cocktails | 8pm Saturday\, July 12th – Mike Mac | 10:30pm Sunday\, July 13th – Shane O’Neill | 9pmIt’s the kind of Sunday session you don’t want to miss Who says the weekend has to end quietly? Shane O Neill \, Kells Awaits \, Discover Kells #LiveAtHeadfort #WeekendVibes #ShaneONeillLive #KellsEvents #BoyneValleyNights #FridayFeels #SundaySoundtrack \nSee less
URL:https://kellsawaits.ie/event/headfort-arms-live-in-the-lounge-kells-meath/
LOCATION:Headfort Lounge at Headfort Arms Hotel\, Headfort Place\, Kells\, Co. Meath\, A82 D2C1\, Ireland
CATEGORIES:Live Music
ATTACH;FMTTYPE=image/jpeg:https://kellsawaits.ie/kells/wp-content/uploads/2025/07/11-to-13-July-2025.avif
ORGANIZER;CN="Headfort Arms Hotel":MAILTO:info@headfortarms.ie
END:VEVENT
BEGIN:VEVENT
DTSTART;TZID=UTC:20250712T000000
DTEND;TZID=UTC:20250713T000000
DTSTAMP:20260426T005008
CREATED:20250708T190644Z
LAST-MODIFIED:20250708T190644Z
UID:2857-1752278400-1752364800@kellsawaits.ie
SUMMARY:Live Music at O'Connor's Bar Kells
DESCRIPTION:Night Train on Saturday\nNight Train Meath is a country rock band. They play energetic\, guitar-heavy music\, covering a range of country artists and styles\, from classic to contemporary. \nMr. Brightside on Sunday\nMr. Brightside  is a lively local band known for delivering high-energy performances that blend classic rock\, indie anthems\, and modern pop-rock hits. 
URL:https://kellsawaits.ie/event/live-music-at-oconnors-bar-kells-2/
LOCATION:O’Connor’s Bar\, Farrell Street\, Kells\, Meath\, Kells\, Meath\, A82 R7N3\, Ireland
CATEGORIES:Live Music
ATTACH;FMTTYPE=image/png:https://kellsawaits.ie/kells/wp-content/uploads/2025/07/Screenshot-2025-07-08-at-19-41-33-Facebook.avif
END:VEVENT
END:VCALENDAR