BEGIN:VCALENDAR
VERSION:2.0
PRODID:-//Stay, Eat &amp; Shop in Historic Kells, Ireland - ECPv6.15.20//NONSGML v1.0//EN
CALSCALE:GREGORIAN
METHOD:PUBLISH
X-WR-CALNAME:Stay, Eat &amp; Shop in Historic Kells, Ireland
X-ORIGINAL-URL:https://kellsawaits.ie
X-WR-CALDESC:Events for Stay, Eat &amp; Shop in Historic Kells, Ireland
REFRESH-INTERVAL;VALUE=DURATION:PT1H
X-Robots-Tag:noindex
X-PUBLISHED-TTL:PT1H
BEGIN:VTIMEZONE
TZID:UTC
BEGIN:STANDARD
TZOFFSETFROM:+0000
TZOFFSETTO:+0000
TZNAME:UTC
DTSTART:20240101T000000
END:STANDARD
END:VTIMEZONE
BEGIN:VEVENT
DTSTART;TZID=UTC:20250720T120000
DTEND;TZID=UTC:20250720T180000
DTSTAMP:20260426T004537
CREATED:20250423T211327Z
LAST-MODIFIED:20250423T211327Z
UID:2261-1753012800-1753034400@kellsawaits.ie
SUMMARY:Fairy Festival at Loughcrew Gardens
DESCRIPTION:Join us to experience a magical weekend at Loughcrew Gardens\, on the 19th/20th of July from 12:00pm – 6pm\, inspired by Fairies\, Enchantment & Ancient Legends Loughcrew Gardens\, Oldcastle\, Co. Meath \n\n\n\n\n\n\n\n\n\n\nLine Up of Performances \nBubble Fairy – Enchanting bubbles of joy. \nMummers – Folklore brought to life. \nPuppets – Whimsical storytelling. \nWand & Mandala Making – Crafting magic. \nMermaid – Mystical water spirit. \nAerial Hoop & Stilt Walkers – Breathtaking performances. \nUnicorn – Spreading magic and dreams. \nCandlelit & Snail Tales – Captivating storytelling. \nLive Music & Food & Crafts  \nVisitor Information at Loughcrew Estate \nAnnual Garden Ticket does not apply\nWheelchair Accessible: Our venue is fully accessible to guests with wheelchairs.\nDog Friendly: We welcome dogs on the premises\, but please ensure they are kept on a lead at all times.\nChildren Under 3: Free admission for children under 3 years old.\nParking: Ample parking is available on-site for all visitors.\nToilets: Restroom facilities are available for your convenience.\nFood and Drinks: A variety of food and drinks will be available on the day. \nCertain activities and attractions at the Event may require additional fees and are not included in the standard ticket price\, please read T&C. \nWe look forward to welcoming you to Loughcrew Estate!
URL:https://kellsawaits.ie/event/fairy-festival-at-loughcrew-gardens-2/
LOCATION:Loughcrew Estate & Gardens\, Loughcrew Estate\, Oldcastle\, Meath\, A82 X4Y1\, Ireland
CATEGORIES:Family Event,Festival
ATTACH;FMTTYPE=image/png:https://kellsawaits.ie/kells/wp-content/uploads/2025/04/fairy.avif
ORGANIZER;CN="Loughcrew Estate & Gardens":MAILTO:admin@loughcrew.com
END:VEVENT
END:VCALENDAR