BEGIN:VCALENDAR
VERSION:2.0
PRODID:-//Stay, Eat &amp; Shop in Historic Kells, Ireland - ECPv6.15.20//NONSGML v1.0//EN
CALSCALE:GREGORIAN
METHOD:PUBLISH
X-WR-CALNAME:Stay, Eat &amp; Shop in Historic Kells, Ireland
X-ORIGINAL-URL:https://kellsawaits.ie
X-WR-CALDESC:Events for Stay, Eat &amp; Shop in Historic Kells, Ireland
REFRESH-INTERVAL;VALUE=DURATION:PT1H
X-Robots-Tag:noindex
X-PUBLISHED-TTL:PT1H
BEGIN:VTIMEZONE
TZID:UTC
BEGIN:STANDARD
TZOFFSETFROM:+0000
TZOFFSETTO:+0000
TZNAME:UTC
DTSTART:20240101T000000
END:STANDARD
END:VTIMEZONE
BEGIN:VEVENT
DTSTART;TZID=UTC:20250726T110000
DTEND;TZID=UTC:20250726T160000
DTSTAMP:20260426T004747
CREATED:20250310T073630Z
LAST-MODIFIED:20250310T074421Z
UID:1369-1753527600-1753545600@kellsawaits.ie
SUMMARY:Eureka House Fair
DESCRIPTION:We will be running our biggest event yet for Eureka House Fair. Hope to get a fantastic crowd.  \nWe are looking for vendors both inside and outside to join us for this great event!
URL:https://kellsawaits.ie/event/eureka-house-fair/
LOCATION:Eureka House\, Townparks\, Navan Road\, Kells\, Meath\, A82 DX47\, Ireland
CATEGORIES:Fair
ATTACH;FMTTYPE=image/jpeg:https://kellsawaits.ie/kells/wp-content/uploads/2025/03/eureka-house-fair-2025.avif
END:VEVENT
END:VCALENDAR