BEGIN:VCALENDAR
VERSION:2.0
PRODID:-//Stay, Eat &amp; Shop in Historic Kells, Ireland - ECPv6.15.20//NONSGML v1.0//EN
CALSCALE:GREGORIAN
METHOD:PUBLISH
X-WR-CALNAME:Stay, Eat &amp; Shop in Historic Kells, Ireland
X-ORIGINAL-URL:https://kellsawaits.ie
X-WR-CALDESC:Events for Stay, Eat &amp; Shop in Historic Kells, Ireland
REFRESH-INTERVAL;VALUE=DURATION:PT1H
X-Robots-Tag:noindex
X-PUBLISHED-TTL:PT1H
BEGIN:VTIMEZONE
TZID:UTC
BEGIN:STANDARD
TZOFFSETFROM:+0000
TZOFFSETTO:+0000
TZNAME:UTC
DTSTART:20240101T000000
END:STANDARD
END:VTIMEZONE
BEGIN:VEVENT
DTSTART;TZID=UTC:20250801T000000
DTEND;TZID=UTC:20250803T000000
DTSTAMP:20260425T224258
CREATED:20250801T141123Z
LAST-MODIFIED:20250801T141123Z
UID:2900-1754006400-1754179200@kellsawaits.ie
SUMMARY:Headfort Arms: Live in the Lounge
DESCRIPTION:Friday – Caithríona Madden\nSaturday – Alistair Spence\nSunday – Eamon Toal
URL:https://kellsawaits.ie/event/headfort-arms-live-in-the-lounge-kells-meath-2/
LOCATION:Headfort Lounge at Headfort Arms Hotel\, Headfort Place\, Kells\, Co. Meath\, A82 D2C1\, Ireland
CATEGORIES:Live Music
ATTACH;FMTTYPE=image/jpeg:https://kellsawaits.ie/kells/wp-content/uploads/2025/08/Live-in-the-Lounge-01-08-25.avif
ORGANIZER;CN="Headfort Arms Hotel":MAILTO:info@headfortarms.ie
END:VEVENT
END:VCALENDAR