BEGIN:VCALENDAR
VERSION:2.0
PRODID:-//Stay, Eat &amp; Shop in Historic Kells, Ireland - ECPv6.15.20//NONSGML v1.0//EN
CALSCALE:GREGORIAN
METHOD:PUBLISH
X-WR-CALNAME:Stay, Eat &amp; Shop in Historic Kells, Ireland
X-ORIGINAL-URL:https://kellsawaits.ie
X-WR-CALDESC:Events for Stay, Eat &amp; Shop in Historic Kells, Ireland
REFRESH-INTERVAL;VALUE=DURATION:PT1H
X-Robots-Tag:noindex
X-PUBLISHED-TTL:PT1H
BEGIN:VTIMEZONE
TZID:UTC
BEGIN:STANDARD
TZOFFSETFROM:+0000
TZOFFSETTO:+0000
TZNAME:UTC
DTSTART:20240101T000000
END:STANDARD
END:VTIMEZONE
BEGIN:VEVENT
DTSTART;TZID=UTC:20250803T100000
DTEND;TZID=UTC:20250803T160000
DTSTAMP:20260425T224504
CREATED:20250430T065033Z
LAST-MODIFIED:20250801T151555Z
UID:2480-1754215200-1754236800@kellsawaits.ie
SUMMARY:Teltown Car Boot Fair
DESCRIPTION:This Sunday 4th May “Teltown Car Boot Fair”\n 10am-4pm.\nCafe Open  \nWhen Preloved is Reloved .\nInterested in booking a stall\, call  087-6659022\nC15X302.\n“One Man’s trash is another Man’s treasure”
URL:https://kellsawaits.ie/event/teltown-car-boot-fair-kells-meath/
LOCATION:Teltown House\, Teltown\, Kells\, Meath\, C15 X302\, Ireland
CATEGORIES:Car Boot Sale
ATTACH;FMTTYPE=image/jpeg:https://kellsawaits.ie/kells/wp-content/uploads/2025/04/car-boot-fair-4th-May-2025.avif
END:VEVENT
BEGIN:VEVENT
DTSTART;TZID=UTC:20250803T150000
DTEND;TZID=UTC:20250803T170000
DTSTAMP:20260425T224504
CREATED:20250630T171209Z
LAST-MODIFIED:20250630T171511Z
UID:2802-1754233200-1754240400@kellsawaits.ie
SUMMARY:Kieran Well Festival
DESCRIPTION:August bank holiday weekend festival at St Kieran’s Well Carnaross\, Kells\, Co. Meath.
URL:https://kellsawaits.ie/event/kieran-well-festival-kells-meath/
LOCATION:St. Ciaran’s Holy Well 🌿\, Castlekeeran\, Kells\, Meath\, A82 XP65\, Ireland
CATEGORIES:Fair Day,Festival
ATTACH;FMTTYPE=image/jpeg:https://kellsawaits.ie/kells/wp-content/uploads/2025/06/03-08-25.avif
END:VEVENT
BEGIN:VEVENT
DTSTART;TZID=UTC:20250803T160000
DTEND;TZID=UTC:20250803T190000
DTSTAMP:20260425T224504
CREATED:20250630T164543Z
LAST-MODIFIED:20250630T164543Z
UID:2796-1754236800-1754247600@kellsawaits.ie
SUMMARY:🎷 Saxy Brunch  at The Kelltic Bar! 🎷
DESCRIPTION:Join us on Sunday\, 3rd August for an afternoon of smooth saxophone vibes\, delicious bites\, and signature cocktails — all set in our stunning newly revamped Courtyard & Terrace  \n\n\n\n Time: 4 PM – 7 PM\n Price: Just €25 per person\n Where: The Kelltic Bar\, Headfort Place\, Kells \n\n\n\nWhether you’re brunching with friends or looking for the perfect date idea\, this is the ultimate Sunday treat!  \n\n\n\n Tickets available now on ticketstop.ie – don’t miss out!\n\n\n Call: +353 46 924 0063\n Email: kelltic@headfortarms.ie \n\n\n\nLet’s brunch with a whole lot of sax appeal… see you there!
URL:https://kellsawaits.ie/event/%f0%9f%8e%b7-saxy-brunch-at-the-kelltic-bar-%f0%9f%8e%b7/
LOCATION:Kelltic Bar\, Headfort Place\, Kells\, Meath\, Ireland
CATEGORIES:Food Event,Live Music
ATTACH;FMTTYPE=image/jpeg:https://kellsawaits.ie/kells/wp-content/uploads/2025/06/saxy-03-08-25.avif
END:VEVENT
BEGIN:VEVENT
DTSTART;TZID=UTC:20250803T230000
DTEND;TZID=UTC:20250803T235500
DTSTAMP:20260425T224504
CREATED:20250801T131302Z
LAST-MODIFIED:20250801T131441Z
UID:2889-1754262000-1754265300@kellsawaits.ie
SUMMARY:Green Diesel @Kelltic Bar
DESCRIPTION:Green Diesel – rock n roll band\, bringing classic rock to the masses!
URL:https://kellsawaits.ie/event/green-diesel-kelltic-bar-kells-meath/
LOCATION:Kelltic Bar\, Headfort Place\, Kells\, Meath\, Ireland
CATEGORIES:Live Music
ATTACH;FMTTYPE=image/jpeg:https://kellsawaits.ie/kells/wp-content/uploads/2025/08/green_diesel.avif
END:VEVENT
END:VCALENDAR