BEGIN:VCALENDAR
VERSION:2.0
PRODID:-//Stay, Eat &amp; Shop in Historic Kells, Ireland - ECPv6.15.20//NONSGML v1.0//EN
CALSCALE:GREGORIAN
METHOD:PUBLISH
X-ORIGINAL-URL:https://kellsawaits.ie
X-WR-CALDESC:Events for Stay, Eat &amp; Shop in Historic Kells, Ireland
REFRESH-INTERVAL;VALUE=DURATION:PT1H
X-Robots-Tag:noindex
X-PUBLISHED-TTL:PT1H
BEGIN:VTIMEZONE
TZID:UTC
BEGIN:STANDARD
TZOFFSETFROM:+0000
TZOFFSETTO:+0000
TZNAME:UTC
DTSTART:20240101T000000
END:STANDARD
END:VTIMEZONE
BEGIN:VEVENT
DTSTART;TZID=UTC:20250806T200000
DTEND;TZID=UTC:20250806T220000
DTSTAMP:20260425T224632
CREATED:20250801T135057Z
LAST-MODIFIED:20250801T140307Z
UID:2892-1754510400-1754517600@kellsawaits.ie
SUMMARY:Eureka–Pat’s Quiz-Off
DESCRIPTION:One Week to Go!  \n\n\nJoin us for the Eureka–Pat’s Quiz-Off on August 6th at 8PM  \n  \n\n\n\n\nLet’s rally together to help these amazing students get to Lourdes for a truly special and meaningful trip  \n  \n\n\n\n\n €40 for a team of 4 \n\n\n Bonus rounds\, great prizes\, and loads of laughs! \n\n\n\nStudents\, parents\, friends – everyone is welcome. Make sure to show your support for this wonderful cause!
URL:https://kellsawaits.ie/event/eureka-pats-quiz-off/
LOCATION:Jacks Bar Restaurant Garden\, Rockfield Rd\, Kells\, Co. Meath\, A82 WF74\, Ireland
CATEGORIES:Quiz,Support Events
END:VEVENT
END:VCALENDAR