BEGIN:VCALENDAR
VERSION:2.0
PRODID:-//Stay, Eat &amp; Shop in Historic Kells, Ireland - ECPv6.15.20//NONSGML v1.0//EN
CALSCALE:GREGORIAN
METHOD:PUBLISH
X-ORIGINAL-URL:https://kellsawaits.ie
X-WR-CALDESC:Events for Stay, Eat &amp; Shop in Historic Kells, Ireland
REFRESH-INTERVAL;VALUE=DURATION:PT1H
X-Robots-Tag:noindex
X-PUBLISHED-TTL:PT1H
BEGIN:VTIMEZONE
TZID:UTC
BEGIN:STANDARD
TZOFFSETFROM:+0000
TZOFFSETTO:+0000
TZNAME:UTC
DTSTART:20240101T000000
END:STANDARD
END:VTIMEZONE
BEGIN:VEVENT
DTSTART;VALUE=DATE:20250816
DTEND;VALUE=DATE:20250825
DTSTAMP:20260425T224626
CREATED:20250801T150508Z
LAST-MODIFIED:20250801T150508Z
UID:2908-1755302400-1756079999@kellsawaits.ie
SUMMARY:National Heritage Week 2025
DESCRIPTION:Celebrate National Heritage Week 2025 across Kells and its neighbouring villages of Moynalty\, Mullagh and Carnaross! \nFrom guided tours of the medieval monastic site and high crosses\, to open visits of the iconic Spire of Lloyd and local heritage walks\, it’s a great time to uncover the layers of our local history. \nMost events are free—keep an eye on heritageweek.ie and Meath County Council for official listings and community-led experiences.
URL:https://kellsawaits.ie/event/national-heritage-week-2025-kells-meath/
LOCATION:Various Venues through Kells\, Kells\, Meath\, Ireland
CATEGORIES:National Heritage Week
ATTACH;FMTTYPE=image/png:https://kellsawaits.ie/kells/wp-content/uploads/2025/08/NHW2025.avif
END:VEVENT
END:VCALENDAR