BEGIN:VCALENDAR
VERSION:2.0
PRODID:-//Stay, Eat &amp; Shop in Historic Kells, Ireland - ECPv6.15.20//NONSGML v1.0//EN
CALSCALE:GREGORIAN
METHOD:PUBLISH
X-ORIGINAL-URL:https://kellsawaits.ie
X-WR-CALDESC:Events for Stay, Eat &amp; Shop in Historic Kells, Ireland
REFRESH-INTERVAL;VALUE=DURATION:PT1H
X-Robots-Tag:noindex
X-PUBLISHED-TTL:PT1H
BEGIN:VTIMEZONE
TZID:UTC
BEGIN:STANDARD
TZOFFSETFROM:+0000
TZOFFSETTO:+0000
TZNAME:UTC
DTSTART:20240101T000000
END:STANDARD
END:VTIMEZONE
BEGIN:VEVENT
DTSTART;TZID=UTC:20250912T200000
DTEND;TZID=UTC:20250912T233000
DTSTAMP:20260425T204637
CREATED:20250630T145153Z
LAST-MODIFIED:20250630T145153Z
UID:2778-1757707200-1757719800@kellsawaits.ie
SUMMARY:Caoláns BBQ Barn Bash
DESCRIPTION:In aid of Caolán Smyth and his fight against leukemia.
URL:https://kellsawaits.ie/event/caolans-bbq-barn-bash/
LOCATION:Rockfield House\, Rockfield Rd\, Rockfield\, Kells\, Meath\, A82 V9D5\, Ireland
CATEGORIES:Fundraiser
ATTACH;FMTTYPE=image/jpeg:https://kellsawaits.ie/kells/wp-content/uploads/2025/06/caolns-bbq-bash-12-09-25.avif
END:VEVENT
END:VCALENDAR